BEGIN:VCALENDAR
VERSION:2.0
PRODID:-//The Benton Harbor Soup Kitchen - ECPv6.15.13//NONSGML v1.0//EN
CALSCALE:GREGORIAN
METHOD:PUBLISH
X-WR-CALNAME:The Benton Harbor Soup Kitchen
X-ORIGINAL-URL:https://soupk.org
X-WR-CALDESC:Events for The Benton Harbor Soup Kitchen
REFRESH-INTERVAL;VALUE=DURATION:PT1H
X-Robots-Tag:noindex
X-PUBLISHED-TTL:PT1H
BEGIN:VTIMEZONE
TZID:UTC
BEGIN:STANDARD
TZOFFSETFROM:+0000
TZOFFSETTO:+0000
TZNAME:UTC
DTSTART:20240101T000000
END:STANDARD
END:VTIMEZONE
BEGIN:VEVENT
DTSTART;TZID=UTC:20250202T120000
DTEND;TZID=UTC:20250202T160000
DTSTAMP:20260423T093351
CREATED:20241219T180029Z
LAST-MODIFIED:20241225T180727Z
UID:1435-1738497600-1738512000@soupk.org
SUMMARY:Euchre Tournament 2025
DESCRIPTION:Join us for the sixth annual Soup Kitchen Euchre Tournament at the Livery on Sunday\, February 2nd\, 2025. The fee is $40 per person and includes The Livery’s famous pizza bar. If you have not eaten their fresh-made pizza\, you are in for a treat. \nClick this link to register:  https://igfn.us/form/0gRArw\nPlease note: all registration is in advance and online. We must know the number of players to plan the food and ensure we will have complete tables. \nYou will not miss any NFL football! There are no NFL games on TV because this is the weekend between playoffs and the Super Bowl. Skip the rotten February weather and have fun close to home. This is the perfect day to play Euchre with friends\, eat pizza\, and enjoy Livery libations! \nDoors open at 12 Noon. Euchre starts promptly at 1 PM. We will finish by 4:00. \nFor questions\, contact the Soup Kitchen: m@soupk.org or 269-925-8204.
URL:https://soupk.org/event/euchre-tournament-2025/
LOCATION:The Livery Brewery\, 190 5th Street\, Benton Harbor\, MI\, 49022\, United States
END:VEVENT
BEGIN:VEVENT
DTSTART;TZID=UTC:20250323T120000
DTEND;TZID=UTC:20250323T160000
DTSTAMP:20260423T093351
CREATED:20250212T172815Z
LAST-MODIFIED:20250213T164700Z
UID:1466-1742731200-1742745600@soupk.org
SUMMARY:Gillespie Soup Bowl\, 2025
DESCRIPTION:*FUN*50/50s*PRIZES*FOOD* \nThe 25th Gillespie Soup Bowl to benefit The Soup Kitchen will be held Sunday\, March 23\, 2023!  Doors open at 12:00 noon\, and bowling starts at 1:00 PM at Striker’s Bowl in St. Joseph.  \nThe cost per team is $120 per lane for 4 bowlers. This includes three games plus shoes. We provide the food\, and the beverages are on you. \n \nWill YOUR TEAM win this year? You won’t have a chance if you don’t register! Last year we filled every lane and turned away several teams who waited too long. \nRegister now:  https://igfn.us/f/59d6/ \n \n \n \n  \nQuestions?   Email m@soupk.org
URL:https://soupk.org/event/gillespie-soup-bowl-2025/
LOCATION:Striker’s Bowl\, 2705 Cleveland Avenue\, Saint Joseph\, MI\, 49085\, United States
END:VEVENT
BEGIN:VEVENT
DTSTART;TZID=UTC:20260201T120000
DTEND;TZID=UTC:20260201T160000
DTSTAMP:20260423T093351
CREATED:20251228T214507Z
LAST-MODIFIED:20260102T203802Z
UID:1515-1769947200-1769961600@soupk.org
SUMMARY:Euchre Tournament for the Benton Harbor Soup Kitchen
DESCRIPTION:Join us for the seventh annual Soup Kitchen Euchre Tournament at the Livery Brewery on Sunday\, February 1st\, 2026. The fee is $40 per player and includes The Livery’s famous pizza bar. If you have not eaten their fresh-made pizza\, you are in for a treat. Click this link to register:  igfn.us/form/YztYDw \nPlease note: all proceeds benefit the Benton Harbor Soup Kitchen. After January 25th\, the registration fee will increase to $50 per player. \n   Scan this QR code to access the registration page. \nThere are cash prizes for 1st 2nd\, and 3rd place and lots of door prizes!
URL:https://soupk.org/event/euchre-tournament-for-the-benton-harbor-soup-kitchen/
LOCATION:The Livery Brewery\, 190 5th Street\, Benton Harbor\, MI\, 49022\, United States
END:VEVENT
BEGIN:VEVENT
DTSTART;TZID=UTC:20260322T130000
DTEND;TZID=UTC:20260322T160000
DTSTAMP:20260423T093351
CREATED:20260202T194130Z
LAST-MODIFIED:20260202T205545Z
UID:1525-1774184400-1774195200@soupk.org
SUMMARY:26th Annual Gillespie Soup Bowl
DESCRIPTION:                     REGISTER HERE:                                    \n  \nThe 25th Annual GILLESPIE SOUP BOWL is a Bowling Tournament benefitting The Benton Harbor Soup Kitchen. \nSunday\, March 23\, 2025 1 p.m. Doors open at noon\, and bowling starts promptly at 1:00. \n$120 per four-member team.  3 games\, shoes\, Silver Beach Pizza & snacks included. \nFREE Silver Beach pizza! Door prizes! Silent Auction! Great fun at every turn! \nREGISTER HERE:  igfn.us/form/TT-aDA \nor scan the QR code above \nQuestions? Email kcgast@yahoo.com
URL:https://soupk.org/event/gillespie-soup-bowl-2026/
LOCATION:Striker’s Bowl\, 2705 Cleveland Avenue\, Saint Joseph\, MI\, 49085\, United States
END:VEVENT
END:VCALENDAR