BEGIN:VCALENDAR
VERSION:2.0
PRODID:-//The Benton Harbor Soup Kitchen - ECPv6.15.13//NONSGML v1.0//EN
CALSCALE:GREGORIAN
METHOD:PUBLISH
X-WR-CALNAME:The Benton Harbor Soup Kitchen
X-ORIGINAL-URL:https://soupk.org
X-WR-CALDESC:Events for The Benton Harbor Soup Kitchen
REFRESH-INTERVAL;VALUE=DURATION:PT1H
X-Robots-Tag:noindex
X-PUBLISHED-TTL:PT1H
BEGIN:VTIMEZONE
TZID:UTC
BEGIN:STANDARD
TZOFFSETFROM:+0000
TZOFFSETTO:+0000
TZNAME:UTC
DTSTART:20180101T000000
END:STANDARD
END:VTIMEZONE
BEGIN:VTIMEZONE
TZID:Asia/Karachi
BEGIN:STANDARD
TZOFFSETFROM:+0500
TZOFFSETTO:+0500
TZNAME:PKT
DTSTART:20220101T000000
END:STANDARD
END:VTIMEZONE
BEGIN:VEVENT
DTSTART;TZID=UTC:20250323T120000
DTEND;TZID=UTC:20250323T160000
DTSTAMP:20260422T224828
CREATED:20250212T172815Z
LAST-MODIFIED:20250213T164700Z
UID:1466-1742731200-1742745600@soupk.org
SUMMARY:Gillespie Soup Bowl\, 2025
DESCRIPTION:*FUN*50/50s*PRIZES*FOOD* \nThe 25th Gillespie Soup Bowl to benefit The Soup Kitchen will be held Sunday\, March 23\, 2023!  Doors open at 12:00 noon\, and bowling starts at 1:00 PM at Striker’s Bowl in St. Joseph.  \nThe cost per team is $120 per lane for 4 bowlers. This includes three games plus shoes. We provide the food\, and the beverages are on you. \n \nWill YOUR TEAM win this year? You won’t have a chance if you don’t register! Last year we filled every lane and turned away several teams who waited too long. \nRegister now:  https://igfn.us/f/59d6/ \n \n \n \n  \nQuestions?   Email m@soupk.org
URL:https://soupk.org/event/gillespie-soup-bowl-2025/
LOCATION:Striker’s Bowl\, 2705 Cleveland Avenue\, Saint Joseph\, MI\, 49085\, United States
END:VEVENT
BEGIN:VEVENT
DTSTART;TZID=UTC:20250202T120000
DTEND;TZID=UTC:20250202T160000
DTSTAMP:20260422T224828
CREATED:20241219T180029Z
LAST-MODIFIED:20241225T180727Z
UID:1435-1738497600-1738512000@soupk.org
SUMMARY:Euchre Tournament 2025
DESCRIPTION:Join us for the sixth annual Soup Kitchen Euchre Tournament at the Livery on Sunday\, February 2nd\, 2025. The fee is $40 per person and includes The Livery’s famous pizza bar. If you have not eaten their fresh-made pizza\, you are in for a treat. \nClick this link to register:  https://igfn.us/form/0gRArw\nPlease note: all registration is in advance and online. We must know the number of players to plan the food and ensure we will have complete tables. \nYou will not miss any NFL football! There are no NFL games on TV because this is the weekend between playoffs and the Super Bowl. Skip the rotten February weather and have fun close to home. This is the perfect day to play Euchre with friends\, eat pizza\, and enjoy Livery libations! \nDoors open at 12 Noon. Euchre starts promptly at 1 PM. We will finish by 4:00. \nFor questions\, contact the Soup Kitchen: m@soupk.org or 269-925-8204.
URL:https://soupk.org/event/euchre-tournament-2025/
LOCATION:The Livery Brewery\, 190 5th Street\, Benton Harbor\, MI\, 49022\, United States
END:VEVENT
BEGIN:VEVENT
DTSTART;TZID=Asia/Karachi:20230729T103000
DTEND;TZID=Asia/Karachi:20230729T150000
DTSTAMP:20260422T224828
CREATED:20230412T192722Z
LAST-MODIFIED:20230512T161528Z
UID:1412-1690626600-1690642800@soupk.org
SUMMARY:Cornhole for  Cause
DESCRIPTION:Cornhole for a Cause is a tournament benefitting The Benton Harbor Soup Kitchen. The tournament will be held on Pleasant St. between The Market and 211 Main Restaurant in downtown St Joseph Michigan. Registration starts at 9:00 AM\, play starts at 10:30 AM. (Players must be at least 16 years old to play.) The cost per two-player team is $70. Team members each receive a t-shirt and a beer token. The top prizes are $500. $250\, and $100. There is a silent auction\, and all kinds of other fun will be had by those who don’t play!  The RAIN date is July 30th\, 2023.\nRegister here: \n\n\n\n\nigfn.us/form/MSwzgA
URL:https://soupk.org/event/cornhole-for-cause/
LOCATION:The Market\, 301 Main Street\, Saint Joseph\, MI 49085\, 301 Main St\, St Joseph\, MI\, 49085\, United States
END:VEVENT
BEGIN:VEVENT
DTSTART;TZID=UTC:20230424T160000
DTEND;TZID=UTC:20230424T203000
DTSTAMP:20260422T224828
CREATED:20230331T202847Z
LAST-MODIFIED:20230404T184336Z
UID:1403-1682352000-1682368200@soupk.org
SUMMARY:Benefit Dinner for The Soup Kitchen
DESCRIPTION:The annual Soup Kitchen Benefit Dinner is Sunday\, April 23\, 2023\, at the Bistro on the Boulevard. \nDonors may choose the special dine-in meal in the restaurant\,  or you may have a curbside pick-up meal. The menu choices are the same for both. The donation remains $80 per person\, with all proceeds going to The Soup Kitchen. This exceptional dining experience includes hors d’oeuvres\, entree of choice\, dessert\, wine\, beer\, and gratuity. There will be a cash bar for cocktails while dining in. \nInvitations have been mailed to past diners and donors. If you wish to receive an invitation\, please call 269-925-8204 or email m@soupk.org. \nDinner seating at the Bistro will be limited to 6 per table for 90 minutes\, starting at 4 p.m.\, 5:30 p.m.and 7 p.m. Curbside pick-up times are between 4 p.m. and 7 p.m. \nWhen you receive your invitation\, please read it carefully\, fill out the menu card\, and ensure we have your PHONE NUMBER. The Bistro will call you to schedule your reservation or pick-up time. \nDinner reservations are due April 16th. (Sorry – the date on the reservation card (23rd) is incorrect.)\nPlease call 925-8204 or email m@soupk.org for questions. \n  \n 
URL:https://soupk.org/event/benefit-dinner-for-the-soup-kitchen-2/
LOCATION:Bistro on the Boulevard\, 521 Lake Boulevard\, Saint Joseph\, MI\, 49085\, United States
END:VEVENT
BEGIN:VEVENT
DTSTART;TZID=UTC:20230326T120000
DTEND;TZID=UTC:20230326T170000
DTSTAMP:20260422T224828
CREATED:20221129T164350Z
LAST-MODIFIED:20221129T185958Z
UID:1376-1679832000-1679850000@soupk.org
SUMMARY:Gillespie Soup Bowl\, 2023
DESCRIPTION:*FUN*50/50s*PRIZES*FOOD* \nThe 22nd Gillespie Soup Bowl to benefit The Soup Kitchen will be held Sunday\, March 26\, 2023!  Doors open at 12:00 noon\, and bowling starts at 1:00 PM at Striker’s Bowl in St. Joseph.  \nThe cost per team is $120 per lane for 4 or 5 bowlers. This includes three games plus shoes. We provide the food\, and the beverages are on you. \n \nWill YOUR TEAM win this year? You won’t have a chance if you don’t register early. Last year we filled every lane and turned away several teams who waited too long. We will have a waitlist. \nRegister now:  https://igfn.us/form/jDgR4w \n  \n  \n  \n  \nQuestions?   Email m@soupk.org
URL:https://soupk.org/event/gillespie-soup-bowl-2023/
LOCATION:Striker’s Bowl\, 2705 Cleveland Avenue\, Saint Joseph\, MI\, 49085\, United States
END:VEVENT
BEGIN:VEVENT
DTSTART;TZID=UTC:20230205T120000
DTEND;TZID=UTC:20230205T160000
DTSTAMP:20260422T224828
CREATED:20221208T142339Z
LAST-MODIFIED:20221208T153859Z
UID:1388-1675598400-1675612800@soupk.org
SUMMARY:Euchre Tournament 2023
DESCRIPTION:Join us for the fourth annual Soup Kitchen Euchre Tournament at the Livery on Sunday\, February 5th\, 2023. The fee is $40 per person and includes Livery’s famous pizza bar. If you have not eaten their fresh-made pizza\, you are in for a treat. \nClick this link to register:   igfn.us/form/EOBksQ\nPlease note: all registration is in advance and online. We must know the number of players to plan the food and ensure we will have complete tables. \nYou will not miss any NFL football! This is the weekend between playoffs and the Super Bowl\, so there are no NFL games on TV. February is the best month to stay close to home. You know what Early February weather is like. This is the perfect day to play Euchre with friends\, eat pizza\, and enjoy Livery libations! \nDoors open at 12 Noon. Euchre starts at 1 PM. We will finish by 4:00. \nQuestions: KC Gast (kcgast@yahoo.com) or contact the Soup Kitchen: m@soupk.org or 269-925-8204.
URL:https://soupk.org/event/euchre-tournament-2023/
LOCATION:The Livery Brewery\, 190 5th Street\, Benton Harbor\, MI\, 49022\, United States
END:VEVENT
BEGIN:VEVENT
DTSTART;TZID=UTC:20191018T000000
DTEND;TZID=UTC:20191127T233000
DTSTAMP:20260422T224828
CREATED:20191023T183715Z
LAST-MODIFIED:20191023T183715Z
UID:1117-1571356800-1574897400@soupk.org
SUMMARY:Buck Hunger
DESCRIPTION:Donate a Buck to stomp out hunger. \nONE dollar? Really?\nYes\, the strength of the Soup Kitchen is in the churches and groups who come to volunteer\nevery day of the year. And in the over 1\,000 individuals who came to The Soup Kitchen to\nvolunteer. If every member of every group that comes into the Soup Kitchen gives only\none dollar\, we will raise over $20\,000. \nWe would love for you to join us\, donate $1\, and then share this campaign with your friends.\nTo use your phone to donate\,    text: buckhunger    to 71777.   On the link you see there\, you\nyou can also become a fundraiser and ask your friends to join you.  In just a few clicks you\ncan send out your invitations. PLEASE SHARE! \nClick this link to donate online:  igfn.us/form/L2l4zw \nOf course\, you can donate through this web site or send in a check. \nTHANK YOU! \n 
URL:https://soupk.org/event/buck-hunger-2/
CATEGORIES:buck
END:VEVENT
BEGIN:VEVENT
DTSTART;TZID=UTC:20191018T000000
DTEND;TZID=UTC:20191127T233000
DTSTAMP:20260422T224828
CREATED:20191018T143244Z
LAST-MODIFIED:20191018T150231Z
UID:1106-1571356800-1574897400@soupk.org
SUMMARY:Buck Hunger
DESCRIPTION:Donate a Buck to stomp out hunger. \n 
URL:https://soupk.org/event/buck-hunger/
CATEGORIES:buck
END:VEVENT
BEGIN:VEVENT
DTSTART;TZID=UTC:20190505T160000
DTEND;TZID=UTC:20190505T190000
DTSTAMP:20260422T224828
CREATED:20190402T191712Z
LAST-MODIFIED:20190405T130757Z
UID:1045-1557072000-1557082800@soupk.org
SUMMARY:Barbara Whitwam Memorial Dinner for the Soup Kitchen
DESCRIPTION:We invite our community and generous supporters to join us for a special evening to honor Barbara Whitwam and her many wonderful years of service to The Soup Kitchen. \nThe benefit dinner will be held Sunday May 5\, 2019 at the Bistro on The Boulevard Restaurant to benefit the Benton Harbor Soup Kitchen and its many guests. Seating times are 4PM to 7PM. This event is invite only due to limited space. If you have not received your invitation\, please call the office — 925-8204. \nThere is a new procedure for making reservations this year.  After you mail your menu card and check in the return envelope\, the Bistro will call you to schedule your seating time. Check the back of the menu card\, and be sure to include your telephone number. \nThe donation is $80 per person. All proceeds go to The Soup Kitchen. The price of dinner includes appetizer\, salad\, entree\, dessert\, beer\, wine and gratuity. Thank you to The Bistro on the Boulevard owners\, staff\, and the entire Whitwam family for hosting this annual event. We are grateful for your friendship and support. \nSince 1980\, The Benton Harbor Soup Kitchen\, an independent non-profit corporation\, has served a large\, healthy noon-time meal every day of the year. Over 48\,000 meals were served last year. The Soup Kitchen also provides a safe\, sheltered\, gathering place during the hours of its service\, while also helping guests meet other vital needs through coordinating with area social agencies. For more information email Merry Stover at m@soupk.org or call 925-8204. \nBW dinner graphic
URL:https://soupk.org/event/barbara-whitwam-memorial-dinner-for-the-soup-kitchen/
END:VEVENT
END:VCALENDAR