BEGIN:VCALENDAR
VERSION:2.0
PRODID:-//The Benton Harbor Soup Kitchen - ECPv6.15.13//NONSGML v1.0//EN
CALSCALE:GREGORIAN
METHOD:PUBLISH
X-WR-CALNAME:The Benton Harbor Soup Kitchen
X-ORIGINAL-URL:https://soupk.org
X-WR-CALDESC:Events for The Benton Harbor Soup Kitchen
REFRESH-INTERVAL;VALUE=DURATION:PT1H
X-Robots-Tag:noindex
X-PUBLISHED-TTL:PT1H
BEGIN:VTIMEZONE
TZID:Asia/Karachi
BEGIN:STANDARD
TZOFFSETFROM:+0500
TZOFFSETTO:+0500
TZNAME:PKT
DTSTART:20220101T000000
END:STANDARD
END:VTIMEZONE
BEGIN:VEVENT
DTSTART;TZID=Asia/Karachi:20230729T103000
DTEND;TZID=Asia/Karachi:20230729T150000
DTSTAMP:20260424T110801
CREATED:20230412T192722Z
LAST-MODIFIED:20230512T161528Z
UID:1412-1690626600-1690642800@soupk.org
SUMMARY:Cornhole for  Cause
DESCRIPTION:Cornhole for a Cause is a tournament benefitting The Benton Harbor Soup Kitchen. The tournament will be held on Pleasant St. between The Market and 211 Main Restaurant in downtown St Joseph Michigan. Registration starts at 9:00 AM\, play starts at 10:30 AM. (Players must be at least 16 years old to play.) The cost per two-player team is $70. Team members each receive a t-shirt and a beer token. The top prizes are $500. $250\, and $100. There is a silent auction\, and all kinds of other fun will be had by those who don’t play!  The RAIN date is July 30th\, 2023.\nRegister here: \n\n\n\n\nigfn.us/form/MSwzgA
URL:https://soupk.org/event/cornhole-for-cause/
LOCATION:The Market\, 301 Main Street\, Saint Joseph\, MI 49085\, 301 Main St\, St Joseph\, MI\, 49085\, United States
END:VEVENT
END:VCALENDAR